BEGIN:VCALENDAR
VERSION:2.0
METHOD:PUBLISH
PRODID:-//hacksw/handcal//NONSGML v1.0//EN
BEGIN:VEVENT
DTSTAMP:20260420T200944Z
DTSTART:20210804T130000Z
DTEND:20210804T170000Z
UID:20210804T130000Z-20210804T170000Z-261@nocac.org
SUMMARY:Commodity Distribution
DESCRIPTION:Commodities will be distributed at the PATH Center.\n\n 
X-ALT-DESC;FMTTYPE=text/html:<p>Commodities will be distributed at the
  PATH Center.</p>\n<p>&nbsp\;</p>\n
URL:https://nocac.org/events/commodity-distribution-7/?lang=en
ATTACH:https://nocac.org/events/commodity-distribution-7/?lang=en
LOCATION:Richland Place/PATH Center\, 1939 E. Second Street\, Defiance
END:VEVENT
END:VCALENDAR
