BEGIN:VCALENDAR
VERSION:2.0
METHOD:PUBLISH
PRODID:-//hacksw/handcal//NONSGML v1.0//EN
BEGIN:VEVENT
DTSTAMP:20260423T090101Z
DTSTART:20220207T220000Z
DTEND:20220207T233000Z
UID:20220207T220000Z-20220207T233000Z-288@nocac.org
SUMMARY:Policy Council Meeting
DESCRIPTION:
X-ALT-DESC;FMTTYPE=text/html:
URL:https://nocac.org/events/policy-council-meeting-11/?lang=en
ATTACH:https://nocac.org/events/policy-council-meeting-11/?lang=en
END:VEVENT
END:VCALENDAR
