BEGIN:VCALENDAR
VERSION:2.0
METHOD:PUBLISH
PRODID:-//hacksw/handcal//NONSGML v1.0//EN
BEGIN:VEVENT
DTSTAMP:20260421T090839Z
DTSTART:20220211T170000Z
DTEND:20220211T180000Z
UID:20220211T170000Z-20220211T180000Z-339@nocac.org
SUMMARY:Ready 2 Rent - Landlord Lunch & Learns
DESCRIPTION:
X-ALT-DESC;FMTTYPE=text/html:
URL:https://nocac.org/events/ready-2-rent-landlord-lunch-learns-2/?lan
 g=en
ATTACH:https://nocac.org/events/ready-2-rent-landlord-lunch-learns-2/?
 lang=en
LOCATION:Northtowne Mall - Community Room\, 1500 N. Clinton Street\, D
 efiance
END:VEVENT
END:VCALENDAR
