BEGIN:VCALENDAR
VERSION:2.0
METHOD:PUBLISH
PRODID:-//hacksw/handcal//NONSGML v1.0//EN
BEGIN:VEVENT
DTSTAMP:20260424T074129Z
DTSTART;VALUE=DATE:20240101
DTEND;VALUE=DATE:20240102
UID:20240101T050000Z-20240102T045959Z-457@nocac.org
SUMMARY:Holiday - Offices Closed
DESCRIPTION:All NOCAC offices are closed today.
X-ALT-DESC;FMTTYPE=text/html:<p>All NOCAC offices are closed today.</p
 >\n
URL:https://nocac.org/events/holiday-offices-closed-15/?lang=en
ATTACH:https://nocac.org/events/holiday-offices-closed-15/?lang=en
END:VEVENT
END:VCALENDAR
