BEGIN:VCALENDAR
VERSION:2.0
METHOD:PUBLISH
PRODID:-//hacksw/handcal//NONSGML v1.0//EN
BEGIN:VEVENT
DTSTAMP:20260420T041147Z
DTSTART:20230309T230000Z
DTEND:20230310T003000Z
UID:20230309T230000Z-20230310T003000Z-461@nocac.org
SUMMARY:Board of Trustees Meeting
DESCRIPTION:This meeting is open to the public.
X-ALT-DESC;FMTTYPE=text/html:<p>This meeting is open to the public.</p
 >\n
URL:https://nocac.org/events/board-of-trustees-meeting-3/?lang=en
ATTACH:https://nocac.org/events/board-of-trustees-meeting-3/?lang=en
LOCATION:NOCAC\, 1933 E 2nd Street\, Defiance
END:VEVENT
END:VCALENDAR
