BEGIN:VCALENDAR
VERSION:2.0
METHOD:PUBLISH
PRODID:-//hacksw/handcal//NONSGML v1.0//EN
BEGIN:VEVENT
DTSTAMP:20260422T045902Z
DTSTART:20230315T180000Z
DTEND:20230315T190000Z
UID:20230315T180000Z-20230315T190000Z-499@nocac.org
SUMMARY:ID Theft Prevention Class (Virtual Meeting)
DESCRIPTION:Free to attend.\n\nThis class is held through a virtual li
 nk.\n\nCall 419.990.5136 or email foc@nocac.org to register (24 hour a
 dvance notice required)
X-ALT-DESC;FMTTYPE=text/html:<p>Free to attend.</p>\n<p>This class is 
 held through a virtual link.</p>\n<p>Call 419.990.5136 or email foc@no
 cac.org to register (24 hour advance notice required)</p>\n
URL:https://nocac.org/events/id-theft-prevention-class-virtual-meeting
 /?lang=en
ATTACH:https://nocac.org/events/id-theft-prevention-class-virtual-meet
 ing/?lang=en
END:VEVENT
END:VCALENDAR
